BEGIN:VCALENDAR
VERSION:2.0
PRODID:-//Helsinki Jazz ry - ECPv6.15.20//NONSGML v1.0//EN
CALSCALE:GREGORIAN
METHOD:PUBLISH
X-ORIGINAL-URL:https://helsinkijazz.fi/fi/
X-WR-CALDESC:Tapahtumat Helsinki Jazz ry
REFRESH-INTERVAL;VALUE=DURATION:PT1H
X-Robots-Tag:noindex
X-PUBLISHED-TTL:PT1H
BEGIN:VTIMEZONE
TZID:Europe/Helsinki
BEGIN:DAYLIGHT
TZOFFSETFROM:+0200
TZOFFSETTO:+0300
TZNAME:EEST
DTSTART:20200329T010000
END:DAYLIGHT
BEGIN:STANDARD
TZOFFSETFROM:+0300
TZOFFSETTO:+0200
TZNAME:EET
DTSTART:20201025T010000
END:STANDARD
BEGIN:DAYLIGHT
TZOFFSETFROM:+0200
TZOFFSETTO:+0300
TZNAME:EEST
DTSTART:20210328T010000
END:DAYLIGHT
BEGIN:STANDARD
TZOFFSETFROM:+0300
TZOFFSETTO:+0200
TZNAME:EET
DTSTART:20211031T010000
END:STANDARD
BEGIN:DAYLIGHT
TZOFFSETFROM:+0200
TZOFFSETTO:+0300
TZNAME:EEST
DTSTART:20220327T010000
END:DAYLIGHT
BEGIN:STANDARD
TZOFFSETFROM:+0300
TZOFFSETTO:+0200
TZNAME:EET
DTSTART:20221030T010000
END:STANDARD
END:VTIMEZONE
BEGIN:VEVENT
DTSTART;TZID=Europe/Helsinki:20210906T190000
DTEND;TZID=Europe/Helsinki:20210906T190000
DTSTAMP:20260425T013647
CREATED:20210825T111736Z
LAST-MODIFIED:20210831T190243Z
UID:3032-1630954800-1630954800@helsinkijazz.fi
SUMMARY:Castrillón – Kääriäinen – Virtaranta – Mustonen
DESCRIPTION:Natalia Castrillón: harput\, Jukka Kääriäinen: kitarat\, Antti Virtaranta: kontrabasso ja Teemu Mustonen: perkussiot\nTässä jaZZanti-konsertissa esiintyvät kokeellisen musiikin taitajat Natalia Castrillón – harppu\, Jukka Kääriäinen – kitara\, Antti Virtaranta – kontrabasso ja Teemu Mustonen perkussiot. \nNatalia Castrillón on Kolumbiasta lähtöisin oleva harpisti. Vuonna 2015 Suomeen asettunut Natalia hakee inspiraation soittoonsa maailman musiikista ja kokeellisesta improvisoidusta musiikista. Hän on kiinnostunut tuomaan harppua esiin totutusta poikkeavissa konteksteissa ja työskenteleekin aktiivisesti projekteissa\, jotka yhdistävät eri taiteenaloja kuten teatteria\, tanssia\, maalausta ja kokeellista musiikkia. \nAntti Virtaranta on basisti ja säveltäjä. Hän aloitti musiikkimatkansa 17-vuotiaana keskittyen jazzmusiikkiin ja opiskeli Philadelphia University of the Artsissa. Nopeasti hän tutustui free jazziin ja kokeelliseen elektroniseen musiikkiin. Hän muutti Berliiniin vuonna 2011\, liittyäkseen impro piireihin. Nykyään hän keskittyy konsepteihin ja sävellyksiin soolobassolle ja sooloelektroniikalle. Nämä ideat kehittyvät ja asettuvat pienryhmiin (duoihin ja trioihin) ja suurempiin kokoonpanoihin. Antti tekee myös aktiivisesti yhteistyötä tanssijoiden ja kuvataiteilijoiden kanssa. \nJukka Kääriäinen on kokeelliseen musiikkiin keskittynyt muusikko. Jukan instrumenteiksi valikoituvat tilanteen mukaan akustinen kitara preparointien kera tai sähkökitara ja repullinen efektejä. Soolokonserttien lisäksi hän esiintyy vakituisesti Sähkökitarakvartetti yhtyeen riveissä ja on esiintynyt mm. muusikoiden kuten Teppo Hauta-Aho\, Kalle Kalima\, Harri Sjöström\, Emilio Gordoa\, Elena Kakaliagou\, Rieko Okuda\, Antti Virtaranta\, Anil Eraslan ja Paul Pignon kanssa ja kantaesittänyt teoksia säveltäjiltä kuten Sebastian Hilli\, Sami Klemola\, Clara de Asis ja Tytti Arola. \nTeemu Mustonen on oululaislähtöinen improvisoiva lyömäsoittaja. Hänellä on takanaan jazzmusiikin opintoja mm. Malmön yliopistosta sekä Helsingin Sibelius-Akatemiassa. Hänen aktiivisia yhtyeitään ovat mm. Linear John\, Treangular sekä NIMBY. Tällä hetkellä Teemu valmistelee tulevaa ensimmäistä soolojulkaisuaan. \nKonserttia tukevat Helsingin kaupunki\, Svenska Kulturfonden ja Music Finland LIVE (Musiikin edistämissäätiö). \nT U R V A V Ä L I K O N S E R T T I – paikkoja on rajoitetusti. Ennakkolipun ostaneille varataan paikat. \nHakasalmen huvilan terveysturvallisuusohjeet
URL:https://helsinkijazz.fi/fi/events/castrillon-kaariainen-virtaranta-mustonen/
LOCATION:Hakasalmen Huvila\, Mannerheimintie 13b\, Helsinki\, 00100
ATTACH;FMTTYPE=image/jpeg:https://helsinkijazz.fi/wp-content/uploads/2021/08/NTAJ_1365_192_w.jpg
END:VEVENT
BEGIN:VEVENT
DTSTART;TZID=Europe/Helsinki:20210903T190000
DTEND;TZID=Europe/Helsinki:20210903T190000
DTSTAMP:20260425T013647
CREATED:20210823T084009Z
LAST-MODIFIED:20210823T084322Z
UID:2775-1630695600-1630695600@helsinkijazz.fi
SUMMARY:The Watercolors
DESCRIPTION:Janne Saarinen: oboe ja englannintorvi\, Ilkka Uksila: vibrafoni\, Joonas Tuuri: basso ja Joonas Leppänen: rummut \nVuonna 2018 perustettu The Watercolors maalailee elegantteja jazz-akvarelleja lainaten sointivärejä niin afroamerikkalaisesta jazzista kuin länsimaisesta taidemusiikista. Yhtyeen musiikissa kuuluu jazzin spontaani improvisointi\, rikkaat harmoniat ja svengaava rytmi sekä toisaalta uniikin kokoonpanonsa mukanaan tuoma puhutteleva kuulaus ja herkkyys. Oboeta ja englannintorvea soittaa Janne Saarinen (mm. Sointi Jazz Orchestra)\, joka on myös säveltänyt yhtyeen musiikin. Vibrafonia tulkitsee Berliinissä vaikuttanut ja sittemmin helsinkiläistynyt Ilkka Uksila (mm. Tomi Nikku 5tet). Kontrabassossa kuullaan monista nimekkäistä jazzyhtyeistä tuttua Joonas Tuuria (mm. JAF-trio). Rumpuja puolestaan soittaa Joonas Leppänen\, joka on niittänyt mainetta mm. oman bändinsä Alder Egon johtohahmona. \nThe Watercolors FB-sivu \nKuva: Katja Uksila \nKonserttia tukevat Helsingin kaupunki\, Svenska Kulturfonden ja Music Finland LIVE (Musiikin edistämissäätiö). \nT U R V A V Ä L I K O N S E R T T I – paikkoja on rajoitetusti\, ennakkolipun ostaneille varataan paikat. \nHakasalmen huvilan terveysturvallisuusohjeet
URL:https://helsinkijazz.fi/fi/events/the-watercolors/
LOCATION:Hakasalmen Huvila\, Mannerheimintie 13b\, Helsinki\, 00100
ATTACH;FMTTYPE=image/jpeg:https://helsinkijazz.fi/wp-content/uploads/2021/08/Promokuva-kvartetti-2b_192-1710x1280-1.jpg
END:VEVENT
BEGIN:VEVENT
DTSTART;TZID=Europe/Helsinki:20210830T190000
DTEND;TZID=Europe/Helsinki:20210830T190000
DTSTAMP:20260425T013647
CREATED:20210823T084519Z
LAST-MODIFIED:20210828T082811Z
UID:2780-1630350000-1630350000@helsinkijazz.fi
SUMMARY:DINGHY
DESCRIPTION:Esa Pietilä: tenorisaksofoni – Olavi Louhivuori: rummut ja perkussiot\nLiberty Shipin vanavedessä seuraava Dinghy seikkailee tyynestä myrskyyn kahden voimakkaan taiteilijan luotsaamana. Freejazzin ja nykymusiikin yhdentymiä todentavan duon ilmaisuun kuuluvat dynaamiset äärimmäisyydet minimalismista räjähtävään voimaan. Kyseessä on duon ensiesiintyminen ja debyyttialbumin julkaisu on suunniteltu vuodelle 2021. \nEsa Pietilän kotisivut \nEsa Pietilän FB-sivu \nOlavi Louhivuoren kotisivut \nOlavi Louhivuoren FB-sivu \nKonserttia tukevat Helsingin kaupunki\, Svenska Kulturfonden ja Music Finland LIVE (Musiikin edistämissäätiö). \nT U R V A V Ä L I K O N S E R T T I – paikkoja on rajoitetusti\, ennakkolipun ostaneille varataan paikat. \nAVI:n määräysten mukaisesti katsomo on jaettu kahteen lohkoon ja kuuntelijoiden kokonaismäärä on 40 henkilöä. \nHakasalmen huvilan terveysturvallisuusohjeet \nKuvat: Sakari Puhakka
URL:https://helsinkijazz.fi/fi/events/dinghy/
LOCATION:Hakasalmen Huvila\, Mannerheimintie 13b\, Helsinki\, 00100
ATTACH;FMTTYPE=image/jpeg:https://helsinkijazz.fi/wp-content/uploads/2021/08/Esa-Olavi_19c.jpg
END:VEVENT
BEGIN:VEVENT
DTSTART;TZID=Europe/Helsinki:20210816T190000
DTEND;TZID=Europe/Helsinki:20210816T190000
DTSTAMP:20260425T013647
CREATED:20210719T074058Z
LAST-MODIFIED:20210719T074449Z
UID:2353-1629140400-1629140400@helsinkijazz.fi
SUMMARY:David Chevallier trio ja Tomi Nikku
DESCRIPTION:Pitkän tauon jälkeen ensimmäinen konsertti! \nMonipuolisesti lahjakas kitaristi David Che­vallier viljelee kuvitteellista Jazz Folkia basisti Sébastien Boisseaun ja rumpali Christophe Lavergnen kanssa muodostamallaan erin­omaisella triolla. \n“Enemmän kuin yksinkertaista folkjazzia\, Da­vid Chevallier kartoittaa kokonaisen univer­sumin\, maalaten suurenmoisia maisemia ja harvinaisen elegantteja rohkeita linjoja sekä us­komattoman sujuvia fraaseja\, kaikkiaan taiturillinen yhdistelmä kirjoitettua ja improvi­soitua. Tässä syvästi orgaanisessa\, lähes te­lepaattisella vuorovaikutuksella tulkitussa musiikissa on kuuluu suunnaton runollisuus ja kiistaton lyyrisyys.” \nNäin kirjottaa Felix Mariano Jazz Magazines­sa tämän 2013 perustetun trion levystä Se­cond Life. Tätä ennen trio oli jo julkaissut al­bumin Standards\, jota kriitikot ylistivät loista­vista jazzstandardien uudelleentulkinnoista.\nTämä yhtyeen ensimmäinen Suomen vierailu elokuussa 2021 tarjoaa Chevallierille tilaisuud­en kohdata toinenkin nuori muusik­ko\, trumpetisti Tomi Nikku\, joka liittyy trioon esittä­mään heidän uusinta tuotantoaan Cu­riosity. Tässä ohjelmistossa Chevallier on inspiroitu­nut ECM levy-yhtiön legendaarisista kitaristeista (Ralph Towner\, John Abercrom­bie\, Pat Metheny\, Terje Rypdal…)\, jotka ovat luoneet perustan hänen musiikilliselle kielel­leen teini-iässä. \nDavidin suuriin esikuviin kuuluu myös trumpetisti Kenny Wheeler ja jonka yhtyeessä hän tutustui pianisti John Tayloriin\, jonka kanssa yhteistyö sujui kuin olisi tullut kotiinsa. Curiosity levyn materiaalin pohjautuu Taylorin kanssa koettuihin tunnelmiin\, paluuseen tavallaan omille juurilleen. Davidin trion vierailevana muusikkona on trumpetisti Tomi Nikku\, joka on nimetty Pori Jazzin 2021 vuoden nousevana kykynä. \nhttps://en.lesonart.net/curiosity \nhttps://www.tominikku.com \nKonserttia tukevat Helsingin kaupunki\, Svenska Kulturfonden ja Music Finland LIVE (Musiikin edistämissäätiö). \nT U R V A V Ä L I K O N S E R T T I – paikkoja on rajoitetusti \nEnnakkolipun ostaneille varataan paikat \nKuvat/Bilder: David Chevallier trio – Anne Magouët ja Tomi Nikku – Veera Konsti
URL:https://helsinkijazz.fi/fi/events/david-chevallier-trio-ja-tomi-nikku/
LOCATION:Hakasalmen Huvila\, Mannerheimintie 13b\, Helsinki\, 00100
ATTACH;FMTTYPE=image/jpeg:https://helsinkijazz.fi/wp-content/uploads/2021/07/david-chevallier-trio-c-anne-magouet_Tomi_19_1.jpg
END:VEVENT
END:VCALENDAR