BEGIN:VCALENDAR
VERSION:2.0
PRODID:-//Helsinki Jazz ry - ECPv6.15.20//NONSGML v1.0//EN
CALSCALE:GREGORIAN
METHOD:PUBLISH
X-WR-CALNAME:Helsinki Jazz ry
X-ORIGINAL-URL:https://helsinkijazz.fi/fi/
X-WR-CALDESC:Tapahtumat Helsinki Jazz ry
REFRESH-INTERVAL;VALUE=DURATION:PT1H
X-Robots-Tag:noindex
X-PUBLISHED-TTL:PT1H
BEGIN:VTIMEZONE
TZID:Europe/Helsinki
BEGIN:DAYLIGHT
TZOFFSETFROM:+0200
TZOFFSETTO:+0300
TZNAME:EEST
DTSTART:20160327T010000
END:DAYLIGHT
BEGIN:STANDARD
TZOFFSETFROM:+0300
TZOFFSETTO:+0200
TZNAME:EET
DTSTART:20161030T010000
END:STANDARD
BEGIN:DAYLIGHT
TZOFFSETFROM:+0200
TZOFFSETTO:+0300
TZNAME:EEST
DTSTART:20170326T010000
END:DAYLIGHT
BEGIN:STANDARD
TZOFFSETFROM:+0300
TZOFFSETTO:+0200
TZNAME:EET
DTSTART:20171029T010000
END:STANDARD
BEGIN:DAYLIGHT
TZOFFSETFROM:+0200
TZOFFSETTO:+0300
TZNAME:EEST
DTSTART:20180325T010000
END:DAYLIGHT
BEGIN:STANDARD
TZOFFSETFROM:+0300
TZOFFSETTO:+0200
TZNAME:EET
DTSTART:20181028T010000
END:STANDARD
END:VTIMEZONE
BEGIN:VEVENT
DTSTART;TZID=Europe/Helsinki:20170509T183000
DTEND;TZID=Europe/Helsinki:20170509T183000
DTSTAMP:20260422T224138
CREATED:20210823T110458Z
LAST-MODIFIED:20210823T110458Z
UID:3011-1494354600-1494354600@helsinkijazz.fi
SUMMARY:Pauli Lyytinen M A G N E T I A O R K E S T E R I
DESCRIPTION:Pauli Lyytinen – saksofonit\, sävellykset / Verneri Pohjola – trumpetti / Eero Tikkanen – kontrabasso / Mika Kallio – rummut \n“Huima bändi tämä Magnetia\, ja vielä sen verran tuore\, että se on helppo nostaa ykkössuositukseksi: jos joku sattuisi minulta tiedustamaan uutta ja tuoretta ja mielenkiintoista ja suositeltavaa kotimaista jazzia\, Magnetia olisi juuri nyt ensimmäinen ehdotus.” – Pentti Ronkanen\, suomijazz.com 09/2016 \n“Pikkuhilljaa ja hieman takavasemmalta kotimaisen jazzmusiikin parhaisiin tekijöihin ujuttautunut Lyytinen kiilaa Magnetiallaan jopa ihan sinne kärkipaikalle. Siltä se ainakin lauantaina Joensuun Pakkahuoneella kuulosti: kuunneltiin tämän hetken kuuminta suomalaista jazzyhtyettä.” – Jyri Ojala\, Karjalainen 09/2016 \n“Olen näiden taitavien soittajien tekemisiä kuullut lukuisia kertoja eri kokoonpanoissa. Tämä oli kuitenkin ensimmäinen kerta\, kun kuulin tätä vähän toista vuotta nyt kasassa ollutta Magnetia Orkesteria. Tuntien ja tietäen soittajien taidot\, odotukset olivat varsin korkealla etukäteen. Konsertti täyttikin täysin ennakko-odotukset.” – Jouko Kirstilä\, Jazzrytmit 09/2016 \nPromo video \nhttp://www.paulilyytinen.com/ \nKonserttia tukevat Helsingin kulttuurikeskus ja Jazz Finland LIVE (Musiikin edistämissäätiö). \nKuva: Cansu A-R
URL:https://helsinkijazz.fi/fi/events/pauli-lyytinen-m-a-g-n-e-t-i-a-o-r-k-e-s-t-e-r-i/
LOCATION:Ravintola Laulumiehet\, Hietaniemenkatu 2\, Helsinki.\, 00100\, Suomi
ATTACH;FMTTYPE=image/jpeg:https://helsinkijazz.fi/wp-content/uploads/2021/08/PL-Magnetia-Orkesteri-3a-2048x1248-1.jpg
END:VEVENT
END:VCALENDAR